BEGIN:VCALENDAR
VERSION:2.0
PRODID:-//Home | Family Support | Tools for Caregivers - ECPv6.15.17.1//NONSGML v1.0//EN
CALSCALE:GREGORIAN
METHOD:PUBLISH
X-WR-CALNAME:Home | Family Support | Tools for Caregivers
X-ORIGINAL-URL:https://fso-hsw.org
X-WR-CALDESC:Events for Home | Family Support | Tools for Caregivers
REFRESH-INTERVAL;VALUE=DURATION:PT1H
X-Robots-Tag:noindex
X-PUBLISHED-TTL:PT1H
BEGIN:VTIMEZONE
TZID:America/New_York
BEGIN:DAYLIGHT
TZOFFSETFROM:-0500
TZOFFSETTO:-0400
TZNAME:EDT
DTSTART:20250309T070000
END:DAYLIGHT
BEGIN:STANDARD
TZOFFSETFROM:-0400
TZOFFSETTO:-0500
TZNAME:EST
DTSTART:20251102T060000
END:STANDARD
BEGIN:DAYLIGHT
TZOFFSETFROM:-0500
TZOFFSETTO:-0400
TZNAME:EDT
DTSTART:20260308T070000
END:DAYLIGHT
BEGIN:STANDARD
TZOFFSETFROM:-0400
TZOFFSETTO:-0500
TZNAME:EST
DTSTART:20261101T060000
END:STANDARD
BEGIN:DAYLIGHT
TZOFFSETFROM:-0500
TZOFFSETTO:-0400
TZNAME:EDT
DTSTART:20270314T070000
END:DAYLIGHT
BEGIN:STANDARD
TZOFFSETFROM:-0400
TZOFFSETTO:-0500
TZNAME:EST
DTSTART:20271107T060000
END:STANDARD
END:VTIMEZONE
BEGIN:VEVENT
DTSTART;TZID=America/New_York:20260423T170000
DTEND;TZID=America/New_York:20260423T190000
DTSTAMP:20260423T060328
CREATED:20251103T190831Z
LAST-MODIFIED:20251208T205943Z
UID:10001205-1776963600-1776970800@fso-hsw.org
SUMMARY:Warren County Youth Partnership
DESCRIPTION:Come join us for Warren County Youth Partnership! Each week we host dinner\, games\, movies\, field trips\, art activites\, and MORE!! To register or inquire please contact Michelle Roussos at mroussos@fso-hsw.org or call 908-223-1191.  Warren County Youth Partnership  – 315 West Washington Ave\, Suite 3\, Washington\, NJ \n\nDownload Flyer
URL:https://fso-hsw.org/event/warren-county-youth-partnership-2/2026-04-23/
LOCATION:Warren County Youth Partnership\, 315 West Washington Ave\, Washington\, NJ\, 07882\, United States
END:VEVENT
BEGIN:VEVENT
DTSTART;TZID=America/New_York:20260427T180000
DTEND;TZID=America/New_York:20260427T190000
DTSTAMP:20260423T060328
CREATED:20251208T204507Z
LAST-MODIFIED:20251208T204507Z
UID:10001222-1777312800-1777316400@fso-hsw.org
SUMMARY:Talking Together Dad Support Group
DESCRIPTION:Bi-Weekly Support Group for dads to meet and discuss the challenges navigating fatherhood. This virtual support group is an opportunity to talk with with peers with a unique understanding of this journey. To register or inquire please contact Michelle Roussos at mroussos@fso-hsw.org or call 908-223-1191.
URL:https://fso-hsw.org/event/talking-together-dad-support-group-2/2026-04-27/
LOCATION:https://fso-hsw.org/event/talking-together-dad-support-group-2/2026-04-27/
END:VEVENT
BEGIN:VEVENT
DTSTART;TZID=America/New_York:20260428T170000
DTEND;TZID=America/New_York:20260428T190000
DTSTAMP:20260423T060328
CREATED:20251103T185428Z
LAST-MODIFIED:20260416T164940Z
UID:10001175-1777395600-1777402800@fso-hsw.org
SUMMARY:Somerset County Youth Partnership
DESCRIPTION:Come join us for Somerset County Youth Partnership! Each week we host dinner\, games\, movies\, field trips\, art activites\, and MORE!! To register or inquire please contact Michelle Roussos at mroussos@fso-hsw.org or call 908-223-1191. Somerset County Youth Partnership – Pioneer Success Center\, 50 Division Street\,Suite 33\, Somerville\, NJ \nDownload Flyer
URL:https://fso-hsw.org/event/somerset-county-youth-partnership-2/2026-04-28/
LOCATION:Somerset County Youth Partnership\, Pioneer Success Center\, 50 Division Street\,Suite 33\, Somerville\, NJ\, 08876\, United States
END:VEVENT
BEGIN:VEVENT
DTSTART;TZID=America/New_York:20260429T173000
DTEND;TZID=America/New_York:20260429T193000
DTSTAMP:20260423T060328
CREATED:20260402T132508Z
LAST-MODIFIED:20260402T132508Z
UID:10001313-1777483800-1777491000@fso-hsw.org
SUMMARY:Warren County Confidence Collective Female Mentor
DESCRIPTION:CONFIDENCE COLLECTIVE is a five-week female mentoring series facilitated by the Family Support Organization of Hunterdon Somerset Warren Counties (FSO-HSW) for young women between the ages of 13-18 in Warren County. Our mission is to empower young women by fostering self-love\, building strong community connections\, and cultivating lasting self-esteem\, equipping them with the confidence to thrive. \nOur program is designed to foster self-love in young women through engaging activities and mentorship. Caring and experienced mentors will lead workshops on topics\, such as yoga and meditation\, emotional awareness\, interpersonal skill development\, body positivity\, and more. Upon completing the program\, participants will be honored in a special ceremony recognizing her growth\, achievements\, and journey towards self-empowerment. \nIf interested in participating\, please RSVP by March 13\, 2026 to Melody Stubbs\, YP/Community Outreach Coordinator at mstubbs@fso-hsw.org. \nConfidence Collective Warren County Spring Series 2026
URL:https://fso-hsw.org/event/warren-county-confidence-collective-female-mentor-3/
LOCATION:Family Support Organization\, 315 West Washington\, Suite 3\, Washington\, NJ\, 07882\, United States
END:VEVENT
BEGIN:VEVENT
DTSTART;TZID=America/New_York:20260430T120000
DTEND;TZID=America/New_York:20260430T133000
DTSTAMP:20260423T060328
CREATED:20260227T195624Z
LAST-MODIFIED:20260227T195624Z
UID:10001291-1777550400-1777555800@fso-hsw.org
SUMMARY:Thriving Together Mom Support Group
DESCRIPTION:Online Support Group for all three counties. An opportunity for Moms to meet and discuss the challenges of everyday life. This support group is an opportunity to talk with with other Mom’s with a unique understanding of this journey.  To register or inquire please contact Michelle Roussos at mroussos@fso-hsw.org or call 908-223-1191.
URL:https://fso-hsw.org/event/thriving-together-mom-support-group-6/2026-04-30/
LOCATION:
END:VEVENT
BEGIN:VEVENT
DTSTART;TZID=America/New_York:20260430T170000
DTEND;TZID=America/New_York:20260430T190000
DTSTAMP:20260423T060328
CREATED:20251103T190831Z
LAST-MODIFIED:20251208T205943Z
UID:10001206-1777568400-1777575600@fso-hsw.org
SUMMARY:Warren County Youth Partnership
DESCRIPTION:Come join us for Warren County Youth Partnership! Each week we host dinner\, games\, movies\, field trips\, art activites\, and MORE!! To register or inquire please contact Michelle Roussos at mroussos@fso-hsw.org or call 908-223-1191.  Warren County Youth Partnership  – 315 West Washington Ave\, Suite 3\, Washington\, NJ \n\nDownload Flyer
URL:https://fso-hsw.org/event/warren-county-youth-partnership-2/2026-04-30/
LOCATION:Warren County Youth Partnership\, 315 West Washington Ave\, Washington\, NJ\, 07882\, United States
END:VEVENT
END:VCALENDAR