BEGIN:VCALENDAR
VERSION:2.0
PRODID:-//Home | Family Support | Tools for Caregivers - ECPv6.15.17.1//NONSGML v1.0//EN
CALSCALE:GREGORIAN
METHOD:PUBLISH
X-ORIGINAL-URL:https://fso-hsw.org
X-WR-CALDESC:Events for Home | Family Support | Tools for Caregivers
REFRESH-INTERVAL;VALUE=DURATION:PT1H
X-Robots-Tag:noindex
X-PUBLISHED-TTL:PT1H
BEGIN:VTIMEZONE
TZID:America/New_York
BEGIN:DAYLIGHT
TZOFFSETFROM:-0500
TZOFFSETTO:-0400
TZNAME:EDT
DTSTART:20250309T070000
END:DAYLIGHT
BEGIN:STANDARD
TZOFFSETFROM:-0400
TZOFFSETTO:-0500
TZNAME:EST
DTSTART:20251102T060000
END:STANDARD
BEGIN:DAYLIGHT
TZOFFSETFROM:-0500
TZOFFSETTO:-0400
TZNAME:EDT
DTSTART:20260308T070000
END:DAYLIGHT
BEGIN:STANDARD
TZOFFSETFROM:-0400
TZOFFSETTO:-0500
TZNAME:EST
DTSTART:20261101T060000
END:STANDARD
BEGIN:DAYLIGHT
TZOFFSETFROM:-0500
TZOFFSETTO:-0400
TZNAME:EDT
DTSTART:20270314T070000
END:DAYLIGHT
BEGIN:STANDARD
TZOFFSETFROM:-0400
TZOFFSETTO:-0500
TZNAME:EST
DTSTART:20271107T060000
END:STANDARD
END:VTIMEZONE
BEGIN:VEVENT
DTSTART;TZID=America/New_York:20260505T170000
DTEND;TZID=America/New_York:20260505T190000
DTSTAMP:20260423T091924
CREATED:20260416T164835Z
LAST-MODIFIED:20260416T164851Z
UID:10001574-1778000400-1778007600@fso-hsw.org
SUMMARY:Somerset County Youth Partnership
DESCRIPTION:Come join us for Somerset County Youth Partnership! Each week we host dinner\, games\, movies\, field trips\, art activites\, and MORE!! To register or inquire please contact Michelle Roussos at mroussos@fso-hsw.org or call 908-223-1191. Somerset County Youth Partnership – Pioneer Success Center\, 50 Division Street\,Suite 33\, Somerville\, NJ \nDownload Flyer
URL:https://fso-hsw.org/event/somerset-county-youth-partnership-3/2026-05-05/
LOCATION:Somerset County Youth Partnership\, Pioneer Success Center\, 50 Division Street\,Suite 33\, Somerville\, NJ\, 08876\, United States
END:VEVENT
BEGIN:VEVENT
DTSTART;TZID=America/New_York:20260507T170000
DTEND;TZID=America/New_York:20260507T190000
DTSTAMP:20260423T091924
CREATED:20251103T190831Z
LAST-MODIFIED:20251208T205943Z
UID:10001207-1778173200-1778180400@fso-hsw.org
SUMMARY:Warren County Youth Partnership
DESCRIPTION:Come join us for Warren County Youth Partnership! Each week we host dinner\, games\, movies\, field trips\, art activites\, and MORE!! To register or inquire please contact Michelle Roussos at mroussos@fso-hsw.org or call 908-223-1191.  Warren County Youth Partnership  – 315 West Washington Ave\, Suite 3\, Washington\, NJ \n\nDownload Flyer
URL:https://fso-hsw.org/event/warren-county-youth-partnership-2/2026-05-07/
LOCATION:Warren County Youth Partnership\, 315 West Washington Ave\, Washington\, NJ\, 07882\, United States
END:VEVENT
BEGIN:VEVENT
DTSTART;TZID=America/New_York:20260507T170000
DTEND;TZID=America/New_York:20260507T190000
DTSTAMP:20260423T091924
CREATED:20260416T150922Z
LAST-MODIFIED:20260416T152154Z
UID:10001314-1778173200-1778180400@fso-hsw.org
SUMMARY:Hunterdon County Youth Partnership
DESCRIPTION:Come join us for Hunterdon County Youth Partnership! You can make new friends\, take field trips\, get involved with your community through volunteer opportunities\, take part in move nights\, games nights\, cool experiments\, and more.\n\nTo register or inquire please contact Michelle Roussos at mroussos@fso-hsw.org or call 908-223-1191.\nLearn More
URL:https://fso-hsw.org/event/hunterdon-county-youth-partnership/2026-05-07/
LOCATION:Hunterdon County Youth Partnership\, 44 Emery Avenue\, Flemington\, NJ\, 08822\, United States
END:VEVENT
BEGIN:VEVENT
DTSTART;TZID=America/New_York:20260511T180000
DTEND;TZID=America/New_York:20260511T190000
DTSTAMP:20260423T091924
CREATED:20251208T204507Z
LAST-MODIFIED:20251208T204507Z
UID:10001223-1778522400-1778526000@fso-hsw.org
SUMMARY:Talking Together Dad Support Group
DESCRIPTION:Bi-Weekly Support Group for dads to meet and discuss the challenges navigating fatherhood. This virtual support group is an opportunity to talk with with peers with a unique understanding of this journey. To register or inquire please contact Michelle Roussos at mroussos@fso-hsw.org or call 908-223-1191.
URL:https://fso-hsw.org/event/talking-together-dad-support-group-2/2026-05-11/
LOCATION:https://fso-hsw.org/event/talking-together-dad-support-group-2/2026-05-11/
END:VEVENT
BEGIN:VEVENT
DTSTART;TZID=America/New_York:20260512T170000
DTEND;TZID=America/New_York:20260512T190000
DTSTAMP:20260423T091924
CREATED:20260416T164835Z
LAST-MODIFIED:20260416T164851Z
UID:10001575-1778605200-1778612400@fso-hsw.org
SUMMARY:Somerset County Youth Partnership
DESCRIPTION:Come join us for Somerset County Youth Partnership! Each week we host dinner\, games\, movies\, field trips\, art activites\, and MORE!! To register or inquire please contact Michelle Roussos at mroussos@fso-hsw.org or call 908-223-1191. Somerset County Youth Partnership – Pioneer Success Center\, 50 Division Street\,Suite 33\, Somerville\, NJ \nDownload Flyer
URL:https://fso-hsw.org/event/somerset-county-youth-partnership-3/2026-05-12/
LOCATION:Somerset County Youth Partnership\, Pioneer Success Center\, 50 Division Street\,Suite 33\, Somerville\, NJ\, 08876\, United States
END:VEVENT
BEGIN:VEVENT
DTSTART;TZID=America/New_York:20260513T183000
DTEND;TZID=America/New_York:20260513T193000
DTSTAMP:20260423T091924
CREATED:20260311T173800Z
LAST-MODIFIED:20260311T173800Z
UID:10001303-1778697000-1778700600@fso-hsw.org
SUMMARY:Understanding ABLE Accounts & Special Needs Trusts
DESCRIPTION:Learn how these two pillars of special needs planning may be used to maximize resources. Topics include: \n\nprotecting government benefits\neligibility requirements & guidelines for use\nfunding options\n\nInformation will be presented simply and practically on how you might best provide quality of life and a lifetime of care. Participants are welcome to a resource kit and complimentary consultation. \nFSO-HSW ABLESNT Webinar Flyer 5.13.26
URL:https://fso-hsw.org/event/understanding-able-accounts-special-needs-trusts/
LOCATION:
END:VEVENT
BEGIN:VEVENT
DTSTART;TZID=America/New_York:20260514T170000
DTEND;TZID=America/New_York:20260514T190000
DTSTAMP:20260423T091924
CREATED:20251103T190831Z
LAST-MODIFIED:20251208T205943Z
UID:10001208-1778778000-1778785200@fso-hsw.org
SUMMARY:Warren County Youth Partnership
DESCRIPTION:Come join us for Warren County Youth Partnership! Each week we host dinner\, games\, movies\, field trips\, art activites\, and MORE!! To register or inquire please contact Michelle Roussos at mroussos@fso-hsw.org or call 908-223-1191.  Warren County Youth Partnership  – 315 West Washington Ave\, Suite 3\, Washington\, NJ \n\nDownload Flyer
URL:https://fso-hsw.org/event/warren-county-youth-partnership-2/2026-05-14/
LOCATION:Warren County Youth Partnership\, 315 West Washington Ave\, Washington\, NJ\, 07882\, United States
END:VEVENT
BEGIN:VEVENT
DTSTART;TZID=America/New_York:20260514T170000
DTEND;TZID=America/New_York:20260514T190000
DTSTAMP:20260423T091924
CREATED:20260416T150922Z
LAST-MODIFIED:20260416T152154Z
UID:10001315-1778778000-1778785200@fso-hsw.org
SUMMARY:Hunterdon County Youth Partnership
DESCRIPTION:Come join us for Hunterdon County Youth Partnership! You can make new friends\, take field trips\, get involved with your community through volunteer opportunities\, take part in move nights\, games nights\, cool experiments\, and more.\n\nTo register or inquire please contact Michelle Roussos at mroussos@fso-hsw.org or call 908-223-1191.\nLearn More
URL:https://fso-hsw.org/event/hunterdon-county-youth-partnership/2026-05-14/
LOCATION:Hunterdon County Youth Partnership\, 44 Emery Avenue\, Flemington\, NJ\, 08822\, United States
END:VEVENT
BEGIN:VEVENT
DTSTART;TZID=America/New_York:20260519T170000
DTEND;TZID=America/New_York:20260519T190000
DTSTAMP:20260423T091924
CREATED:20260416T164835Z
LAST-MODIFIED:20260416T164851Z
UID:10001576-1779210000-1779217200@fso-hsw.org
SUMMARY:Somerset County Youth Partnership
DESCRIPTION:Come join us for Somerset County Youth Partnership! Each week we host dinner\, games\, movies\, field trips\, art activites\, and MORE!! To register or inquire please contact Michelle Roussos at mroussos@fso-hsw.org or call 908-223-1191. Somerset County Youth Partnership – Pioneer Success Center\, 50 Division Street\,Suite 33\, Somerville\, NJ \nDownload Flyer
URL:https://fso-hsw.org/event/somerset-county-youth-partnership-3/2026-05-19/
LOCATION:Somerset County Youth Partnership\, Pioneer Success Center\, 50 Division Street\,Suite 33\, Somerville\, NJ\, 08876\, United States
END:VEVENT
BEGIN:VEVENT
DTSTART;TZID=America/New_York:20260521T170000
DTEND;TZID=America/New_York:20260521T190000
DTSTAMP:20260423T091924
CREATED:20251103T190831Z
LAST-MODIFIED:20251208T205943Z
UID:10001209-1779382800-1779390000@fso-hsw.org
SUMMARY:Warren County Youth Partnership
DESCRIPTION:Come join us for Warren County Youth Partnership! Each week we host dinner\, games\, movies\, field trips\, art activites\, and MORE!! To register or inquire please contact Michelle Roussos at mroussos@fso-hsw.org or call 908-223-1191.  Warren County Youth Partnership  – 315 West Washington Ave\, Suite 3\, Washington\, NJ \n\nDownload Flyer
URL:https://fso-hsw.org/event/warren-county-youth-partnership-2/2026-05-21/
LOCATION:Warren County Youth Partnership\, 315 West Washington Ave\, Washington\, NJ\, 07882\, United States
END:VEVENT
BEGIN:VEVENT
DTSTART;TZID=America/New_York:20260521T170000
DTEND;TZID=America/New_York:20260521T190000
DTSTAMP:20260423T091924
CREATED:20260416T150922Z
LAST-MODIFIED:20260416T152154Z
UID:10001316-1779382800-1779390000@fso-hsw.org
SUMMARY:Hunterdon County Youth Partnership
DESCRIPTION:Come join us for Hunterdon County Youth Partnership! You can make new friends\, take field trips\, get involved with your community through volunteer opportunities\, take part in move nights\, games nights\, cool experiments\, and more.\n\nTo register or inquire please contact Michelle Roussos at mroussos@fso-hsw.org or call 908-223-1191.\nLearn More
URL:https://fso-hsw.org/event/hunterdon-county-youth-partnership/2026-05-21/
LOCATION:Hunterdon County Youth Partnership\, 44 Emery Avenue\, Flemington\, NJ\, 08822\, United States
END:VEVENT
BEGIN:VEVENT
DTSTART;TZID=America/New_York:20260525T180000
DTEND;TZID=America/New_York:20260525T190000
DTSTAMP:20260423T091924
CREATED:20251208T204507Z
LAST-MODIFIED:20251208T204507Z
UID:10001224-1779732000-1779735600@fso-hsw.org
SUMMARY:Talking Together Dad Support Group
DESCRIPTION:Bi-Weekly Support Group for dads to meet and discuss the challenges navigating fatherhood. This virtual support group is an opportunity to talk with with peers with a unique understanding of this journey. To register or inquire please contact Michelle Roussos at mroussos@fso-hsw.org or call 908-223-1191.
URL:https://fso-hsw.org/event/talking-together-dad-support-group-2/2026-05-25/
LOCATION:https://fso-hsw.org/event/talking-together-dad-support-group-2/2026-05-25/
END:VEVENT
BEGIN:VEVENT
DTSTART;TZID=America/New_York:20260526T170000
DTEND;TZID=America/New_York:20260526T190000
DTSTAMP:20260423T091924
CREATED:20260416T164835Z
LAST-MODIFIED:20260416T164851Z
UID:10001577-1779814800-1779822000@fso-hsw.org
SUMMARY:Somerset County Youth Partnership
DESCRIPTION:Come join us for Somerset County Youth Partnership! Each week we host dinner\, games\, movies\, field trips\, art activites\, and MORE!! To register or inquire please contact Michelle Roussos at mroussos@fso-hsw.org or call 908-223-1191. Somerset County Youth Partnership – Pioneer Success Center\, 50 Division Street\,Suite 33\, Somerville\, NJ \nDownload Flyer
URL:https://fso-hsw.org/event/somerset-county-youth-partnership-3/2026-05-26/
LOCATION:Somerset County Youth Partnership\, Pioneer Success Center\, 50 Division Street\,Suite 33\, Somerville\, NJ\, 08876\, United States
END:VEVENT
BEGIN:VEVENT
DTSTART;TZID=America/New_York:20260528T170000
DTEND;TZID=America/New_York:20260528T190000
DTSTAMP:20260423T091924
CREATED:20260416T150922Z
LAST-MODIFIED:20260416T152154Z
UID:10001317-1779987600-1779994800@fso-hsw.org
SUMMARY:Hunterdon County Youth Partnership
DESCRIPTION:Come join us for Hunterdon County Youth Partnership! You can make new friends\, take field trips\, get involved with your community through volunteer opportunities\, take part in move nights\, games nights\, cool experiments\, and more.\n\nTo register or inquire please contact Michelle Roussos at mroussos@fso-hsw.org or call 908-223-1191.\nLearn More
URL:https://fso-hsw.org/event/hunterdon-county-youth-partnership/2026-05-28/
LOCATION:Hunterdon County Youth Partnership\, 44 Emery Avenue\, Flemington\, NJ\, 08822\, United States
END:VEVENT
END:VCALENDAR