BEGIN:VCALENDAR
VERSION:2.0
PRODID:-//Home | Family Support | Tools for Caregivers - ECPv6.15.17.1//NONSGML v1.0//EN
CALSCALE:GREGORIAN
METHOD:PUBLISH
X-ORIGINAL-URL:https://fso-hsw.org
X-WR-CALDESC:Events for Home | Family Support | Tools for Caregivers
REFRESH-INTERVAL;VALUE=DURATION:PT1H
X-Robots-Tag:noindex
X-PUBLISHED-TTL:PT1H
BEGIN:VTIMEZONE
TZID:America/New_York
BEGIN:DAYLIGHT
TZOFFSETFROM:-0500
TZOFFSETTO:-0400
TZNAME:EDT
DTSTART:20250309T070000
END:DAYLIGHT
BEGIN:STANDARD
TZOFFSETFROM:-0400
TZOFFSETTO:-0500
TZNAME:EST
DTSTART:20251102T060000
END:STANDARD
BEGIN:DAYLIGHT
TZOFFSETFROM:-0500
TZOFFSETTO:-0400
TZNAME:EDT
DTSTART:20260308T070000
END:DAYLIGHT
BEGIN:STANDARD
TZOFFSETFROM:-0400
TZOFFSETTO:-0500
TZNAME:EST
DTSTART:20261101T060000
END:STANDARD
BEGIN:DAYLIGHT
TZOFFSETFROM:-0500
TZOFFSETTO:-0400
TZNAME:EDT
DTSTART:20270314T070000
END:DAYLIGHT
BEGIN:STANDARD
TZOFFSETFROM:-0400
TZOFFSETTO:-0500
TZNAME:EST
DTSTART:20271107T060000
END:STANDARD
END:VTIMEZONE
BEGIN:VEVENT
DTSTART;TZID=America/New_York:20260602T170000
DTEND;TZID=America/New_York:20260602T190000
DTSTAMP:20260423T105731
CREATED:20260416T164835Z
LAST-MODIFIED:20260416T164851Z
UID:10001578-1780419600-1780426800@fso-hsw.org
SUMMARY:Somerset County Youth Partnership
DESCRIPTION:Come join us for Somerset County Youth Partnership! Each week we host dinner\, games\, movies\, field trips\, art activites\, and MORE!! To register or inquire please contact Michelle Roussos at mroussos@fso-hsw.org or call 908-223-1191. Somerset County Youth Partnership – Pioneer Success Center\, 50 Division Street\,Suite 33\, Somerville\, NJ \nDownload Flyer
URL:https://fso-hsw.org/event/somerset-county-youth-partnership-3/2026-06-02/
LOCATION:Somerset County Youth Partnership\, Pioneer Success Center\, 50 Division Street\,Suite 33\, Somerville\, NJ\, 08876\, United States
END:VEVENT
BEGIN:VEVENT
DTSTART;TZID=America/New_York:20260604T170000
DTEND;TZID=America/New_York:20260604T190000
DTSTAMP:20260423T105731
CREATED:20260416T150922Z
LAST-MODIFIED:20260416T152154Z
UID:10001318-1780592400-1780599600@fso-hsw.org
SUMMARY:Hunterdon County Youth Partnership
DESCRIPTION:Come join us for Hunterdon County Youth Partnership! You can make new friends\, take field trips\, get involved with your community through volunteer opportunities\, take part in move nights\, games nights\, cool experiments\, and more.\n\nTo register or inquire please contact Michelle Roussos at mroussos@fso-hsw.org or call 908-223-1191.\nLearn More
URL:https://fso-hsw.org/event/hunterdon-county-youth-partnership/2026-06-04/
LOCATION:Hunterdon County Youth Partnership\, 44 Emery Avenue\, Flemington\, NJ\, 08822\, United States
END:VEVENT
BEGIN:VEVENT
DTSTART;TZID=America/New_York:20260609T170000
DTEND;TZID=America/New_York:20260609T190000
DTSTAMP:20260423T105731
CREATED:20260416T164835Z
LAST-MODIFIED:20260416T164851Z
UID:10001579-1781024400-1781031600@fso-hsw.org
SUMMARY:Somerset County Youth Partnership
DESCRIPTION:Come join us for Somerset County Youth Partnership! Each week we host dinner\, games\, movies\, field trips\, art activites\, and MORE!! To register or inquire please contact Michelle Roussos at mroussos@fso-hsw.org or call 908-223-1191. Somerset County Youth Partnership – Pioneer Success Center\, 50 Division Street\,Suite 33\, Somerville\, NJ \nDownload Flyer
URL:https://fso-hsw.org/event/somerset-county-youth-partnership-3/2026-06-09/
LOCATION:Somerset County Youth Partnership\, Pioneer Success Center\, 50 Division Street\,Suite 33\, Somerville\, NJ\, 08876\, United States
END:VEVENT
BEGIN:VEVENT
DTSTART;TZID=America/New_York:20260611T170000
DTEND;TZID=America/New_York:20260611T190000
DTSTAMP:20260423T105731
CREATED:20260416T150922Z
LAST-MODIFIED:20260416T152154Z
UID:10001319-1781197200-1781204400@fso-hsw.org
SUMMARY:Hunterdon County Youth Partnership
DESCRIPTION:Come join us for Hunterdon County Youth Partnership! You can make new friends\, take field trips\, get involved with your community through volunteer opportunities\, take part in move nights\, games nights\, cool experiments\, and more.\n\nTo register or inquire please contact Michelle Roussos at mroussos@fso-hsw.org or call 908-223-1191.\nLearn More
URL:https://fso-hsw.org/event/hunterdon-county-youth-partnership/2026-06-11/
LOCATION:Hunterdon County Youth Partnership\, 44 Emery Avenue\, Flemington\, NJ\, 08822\, United States
END:VEVENT
BEGIN:VEVENT
DTSTART;TZID=America/New_York:20260616T170000
DTEND;TZID=America/New_York:20260616T190000
DTSTAMP:20260423T105731
CREATED:20260416T164835Z
LAST-MODIFIED:20260416T164851Z
UID:10001580-1781629200-1781636400@fso-hsw.org
SUMMARY:Somerset County Youth Partnership
DESCRIPTION:Come join us for Somerset County Youth Partnership! Each week we host dinner\, games\, movies\, field trips\, art activites\, and MORE!! To register or inquire please contact Michelle Roussos at mroussos@fso-hsw.org or call 908-223-1191. Somerset County Youth Partnership – Pioneer Success Center\, 50 Division Street\,Suite 33\, Somerville\, NJ \nDownload Flyer
URL:https://fso-hsw.org/event/somerset-county-youth-partnership-3/2026-06-16/
LOCATION:Somerset County Youth Partnership\, Pioneer Success Center\, 50 Division Street\,Suite 33\, Somerville\, NJ\, 08876\, United States
END:VEVENT
BEGIN:VEVENT
DTSTART;TZID=America/New_York:20260618T170000
DTEND;TZID=America/New_York:20260618T190000
DTSTAMP:20260423T105731
CREATED:20260416T150922Z
LAST-MODIFIED:20260416T152154Z
UID:10001320-1781802000-1781809200@fso-hsw.org
SUMMARY:Hunterdon County Youth Partnership
DESCRIPTION:Come join us for Hunterdon County Youth Partnership! You can make new friends\, take field trips\, get involved with your community through volunteer opportunities\, take part in move nights\, games nights\, cool experiments\, and more.\n\nTo register or inquire please contact Michelle Roussos at mroussos@fso-hsw.org or call 908-223-1191.\nLearn More
URL:https://fso-hsw.org/event/hunterdon-county-youth-partnership/2026-06-18/
LOCATION:Hunterdon County Youth Partnership\, 44 Emery Avenue\, Flemington\, NJ\, 08822\, United States
END:VEVENT
BEGIN:VEVENT
DTSTART;TZID=America/New_York:20260623T170000
DTEND;TZID=America/New_York:20260623T190000
DTSTAMP:20260423T105731
CREATED:20260416T164835Z
LAST-MODIFIED:20260416T164851Z
UID:10001581-1782234000-1782241200@fso-hsw.org
SUMMARY:Somerset County Youth Partnership
DESCRIPTION:Come join us for Somerset County Youth Partnership! Each week we host dinner\, games\, movies\, field trips\, art activites\, and MORE!! To register or inquire please contact Michelle Roussos at mroussos@fso-hsw.org or call 908-223-1191. Somerset County Youth Partnership – Pioneer Success Center\, 50 Division Street\,Suite 33\, Somerville\, NJ \nDownload Flyer
URL:https://fso-hsw.org/event/somerset-county-youth-partnership-3/2026-06-23/
LOCATION:Somerset County Youth Partnership\, Pioneer Success Center\, 50 Division Street\,Suite 33\, Somerville\, NJ\, 08876\, United States
END:VEVENT
BEGIN:VEVENT
DTSTART;TZID=America/New_York:20260625T170000
DTEND;TZID=America/New_York:20260625T190000
DTSTAMP:20260423T105731
CREATED:20260416T150922Z
LAST-MODIFIED:20260416T152154Z
UID:10001321-1782406800-1782414000@fso-hsw.org
SUMMARY:Hunterdon County Youth Partnership
DESCRIPTION:Come join us for Hunterdon County Youth Partnership! You can make new friends\, take field trips\, get involved with your community through volunteer opportunities\, take part in move nights\, games nights\, cool experiments\, and more.\n\nTo register or inquire please contact Michelle Roussos at mroussos@fso-hsw.org or call 908-223-1191.\nLearn More
URL:https://fso-hsw.org/event/hunterdon-county-youth-partnership/2026-06-25/
LOCATION:Hunterdon County Youth Partnership\, 44 Emery Avenue\, Flemington\, NJ\, 08822\, United States
END:VEVENT
BEGIN:VEVENT
DTSTART;TZID=America/New_York:20260630T170000
DTEND;TZID=America/New_York:20260630T190000
DTSTAMP:20260423T105731
CREATED:20260416T164835Z
LAST-MODIFIED:20260416T164851Z
UID:10001582-1782838800-1782846000@fso-hsw.org
SUMMARY:Somerset County Youth Partnership
DESCRIPTION:Come join us for Somerset County Youth Partnership! Each week we host dinner\, games\, movies\, field trips\, art activites\, and MORE!! To register or inquire please contact Michelle Roussos at mroussos@fso-hsw.org or call 908-223-1191. Somerset County Youth Partnership – Pioneer Success Center\, 50 Division Street\,Suite 33\, Somerville\, NJ \nDownload Flyer
URL:https://fso-hsw.org/event/somerset-county-youth-partnership-3/2026-06-30/
LOCATION:Somerset County Youth Partnership\, Pioneer Success Center\, 50 Division Street\,Suite 33\, Somerville\, NJ\, 08876\, United States
END:VEVENT
END:VCALENDAR