BEGIN:VCALENDAR
VERSION:2.0
PRODID:-//Home | Family Support | Tools for Caregivers - ECPv6.15.17.1//NONSGML v1.0//EN
CALSCALE:GREGORIAN
METHOD:PUBLISH
X-ORIGINAL-URL:https://fso-hsw.org
X-WR-CALDESC:Events for Home | Family Support | Tools for Caregivers
REFRESH-INTERVAL;VALUE=DURATION:PT1H
X-Robots-Tag:noindex
X-PUBLISHED-TTL:PT1H
BEGIN:VTIMEZONE
TZID:America/New_York
BEGIN:DAYLIGHT
TZOFFSETFROM:-0500
TZOFFSETTO:-0400
TZNAME:EDT
DTSTART:20250309T070000
END:DAYLIGHT
BEGIN:STANDARD
TZOFFSETFROM:-0400
TZOFFSETTO:-0500
TZNAME:EST
DTSTART:20251102T060000
END:STANDARD
BEGIN:DAYLIGHT
TZOFFSETFROM:-0500
TZOFFSETTO:-0400
TZNAME:EDT
DTSTART:20260308T070000
END:DAYLIGHT
BEGIN:STANDARD
TZOFFSETFROM:-0400
TZOFFSETTO:-0500
TZNAME:EST
DTSTART:20261101T060000
END:STANDARD
BEGIN:DAYLIGHT
TZOFFSETFROM:-0500
TZOFFSETTO:-0400
TZNAME:EDT
DTSTART:20270314T070000
END:DAYLIGHT
BEGIN:STANDARD
TZOFFSETFROM:-0400
TZOFFSETTO:-0500
TZNAME:EST
DTSTART:20271107T060000
END:STANDARD
END:VTIMEZONE
BEGIN:VEVENT
DTSTART;TZID=America/New_York:20260702T170000
DTEND;TZID=America/New_York:20260702T190000
DTSTAMP:20260423T122921
CREATED:20260416T150922Z
LAST-MODIFIED:20260416T152154Z
UID:10001322-1783011600-1783018800@fso-hsw.org
SUMMARY:Hunterdon County Youth Partnership
DESCRIPTION:Come join us for Hunterdon County Youth Partnership! You can make new friends\, take field trips\, get involved with your community through volunteer opportunities\, take part in move nights\, games nights\, cool experiments\, and more.\n\nTo register or inquire please contact Michelle Roussos at mroussos@fso-hsw.org or call 908-223-1191.\nLearn More
URL:https://fso-hsw.org/event/hunterdon-county-youth-partnership/2026-07-02/
LOCATION:Hunterdon County Youth Partnership\, 44 Emery Avenue\, Flemington\, NJ\, 08822\, United States
END:VEVENT
BEGIN:VEVENT
DTSTART;TZID=America/New_York:20260707T170000
DTEND;TZID=America/New_York:20260707T190000
DTSTAMP:20260423T122921
CREATED:20260416T164835Z
LAST-MODIFIED:20260416T164851Z
UID:10001583-1783443600-1783450800@fso-hsw.org
SUMMARY:Somerset County Youth Partnership
DESCRIPTION:Come join us for Somerset County Youth Partnership! Each week we host dinner\, games\, movies\, field trips\, art activites\, and MORE!! To register or inquire please contact Michelle Roussos at mroussos@fso-hsw.org or call 908-223-1191. Somerset County Youth Partnership – Pioneer Success Center\, 50 Division Street\,Suite 33\, Somerville\, NJ \nDownload Flyer
URL:https://fso-hsw.org/event/somerset-county-youth-partnership-3/2026-07-07/
LOCATION:Somerset County Youth Partnership\, Pioneer Success Center\, 50 Division Street\,Suite 33\, Somerville\, NJ\, 08876\, United States
END:VEVENT
BEGIN:VEVENT
DTSTART;TZID=America/New_York:20260709T170000
DTEND;TZID=America/New_York:20260709T190000
DTSTAMP:20260423T122921
CREATED:20260416T150922Z
LAST-MODIFIED:20260416T152154Z
UID:10001323-1783616400-1783623600@fso-hsw.org
SUMMARY:Hunterdon County Youth Partnership
DESCRIPTION:Come join us for Hunterdon County Youth Partnership! You can make new friends\, take field trips\, get involved with your community through volunteer opportunities\, take part in move nights\, games nights\, cool experiments\, and more.\n\nTo register or inquire please contact Michelle Roussos at mroussos@fso-hsw.org or call 908-223-1191.\nLearn More
URL:https://fso-hsw.org/event/hunterdon-county-youth-partnership/2026-07-09/
LOCATION:Hunterdon County Youth Partnership\, 44 Emery Avenue\, Flemington\, NJ\, 08822\, United States
END:VEVENT
BEGIN:VEVENT
DTSTART;TZID=America/New_York:20260714T170000
DTEND;TZID=America/New_York:20260714T190000
DTSTAMP:20260423T122921
CREATED:20260416T164835Z
LAST-MODIFIED:20260416T164851Z
UID:10001584-1784048400-1784055600@fso-hsw.org
SUMMARY:Somerset County Youth Partnership
DESCRIPTION:Come join us for Somerset County Youth Partnership! Each week we host dinner\, games\, movies\, field trips\, art activites\, and MORE!! To register or inquire please contact Michelle Roussos at mroussos@fso-hsw.org or call 908-223-1191. Somerset County Youth Partnership – Pioneer Success Center\, 50 Division Street\,Suite 33\, Somerville\, NJ \nDownload Flyer
URL:https://fso-hsw.org/event/somerset-county-youth-partnership-3/2026-07-14/
LOCATION:Somerset County Youth Partnership\, Pioneer Success Center\, 50 Division Street\,Suite 33\, Somerville\, NJ\, 08876\, United States
END:VEVENT
BEGIN:VEVENT
DTSTART;TZID=America/New_York:20260716T170000
DTEND;TZID=America/New_York:20260716T190000
DTSTAMP:20260423T122921
CREATED:20260416T150922Z
LAST-MODIFIED:20260416T152154Z
UID:10001324-1784221200-1784228400@fso-hsw.org
SUMMARY:Hunterdon County Youth Partnership
DESCRIPTION:Come join us for Hunterdon County Youth Partnership! You can make new friends\, take field trips\, get involved with your community through volunteer opportunities\, take part in move nights\, games nights\, cool experiments\, and more.\n\nTo register or inquire please contact Michelle Roussos at mroussos@fso-hsw.org or call 908-223-1191.\nLearn More
URL:https://fso-hsw.org/event/hunterdon-county-youth-partnership/2026-07-16/
LOCATION:Hunterdon County Youth Partnership\, 44 Emery Avenue\, Flemington\, NJ\, 08822\, United States
END:VEVENT
BEGIN:VEVENT
DTSTART;TZID=America/New_York:20260721T170000
DTEND;TZID=America/New_York:20260721T190000
DTSTAMP:20260423T122921
CREATED:20260416T164835Z
LAST-MODIFIED:20260416T164851Z
UID:10001585-1784653200-1784660400@fso-hsw.org
SUMMARY:Somerset County Youth Partnership
DESCRIPTION:Come join us for Somerset County Youth Partnership! Each week we host dinner\, games\, movies\, field trips\, art activites\, and MORE!! To register or inquire please contact Michelle Roussos at mroussos@fso-hsw.org or call 908-223-1191. Somerset County Youth Partnership – Pioneer Success Center\, 50 Division Street\,Suite 33\, Somerville\, NJ \nDownload Flyer
URL:https://fso-hsw.org/event/somerset-county-youth-partnership-3/2026-07-21/
LOCATION:Somerset County Youth Partnership\, Pioneer Success Center\, 50 Division Street\,Suite 33\, Somerville\, NJ\, 08876\, United States
END:VEVENT
BEGIN:VEVENT
DTSTART;TZID=America/New_York:20260723T170000
DTEND;TZID=America/New_York:20260723T190000
DTSTAMP:20260423T122921
CREATED:20260416T150922Z
LAST-MODIFIED:20260416T152154Z
UID:10001325-1784826000-1784833200@fso-hsw.org
SUMMARY:Hunterdon County Youth Partnership
DESCRIPTION:Come join us for Hunterdon County Youth Partnership! You can make new friends\, take field trips\, get involved with your community through volunteer opportunities\, take part in move nights\, games nights\, cool experiments\, and more.\n\nTo register or inquire please contact Michelle Roussos at mroussos@fso-hsw.org or call 908-223-1191.\nLearn More
URL:https://fso-hsw.org/event/hunterdon-county-youth-partnership/2026-07-23/
LOCATION:Hunterdon County Youth Partnership\, 44 Emery Avenue\, Flemington\, NJ\, 08822\, United States
END:VEVENT
BEGIN:VEVENT
DTSTART;TZID=America/New_York:20260728T170000
DTEND;TZID=America/New_York:20260728T190000
DTSTAMP:20260423T122921
CREATED:20260416T164835Z
LAST-MODIFIED:20260416T164851Z
UID:10001586-1785258000-1785265200@fso-hsw.org
SUMMARY:Somerset County Youth Partnership
DESCRIPTION:Come join us for Somerset County Youth Partnership! Each week we host dinner\, games\, movies\, field trips\, art activites\, and MORE!! To register or inquire please contact Michelle Roussos at mroussos@fso-hsw.org or call 908-223-1191. Somerset County Youth Partnership – Pioneer Success Center\, 50 Division Street\,Suite 33\, Somerville\, NJ \nDownload Flyer
URL:https://fso-hsw.org/event/somerset-county-youth-partnership-3/2026-07-28/
LOCATION:Somerset County Youth Partnership\, Pioneer Success Center\, 50 Division Street\,Suite 33\, Somerville\, NJ\, 08876\, United States
END:VEVENT
BEGIN:VEVENT
DTSTART;TZID=America/New_York:20260730T170000
DTEND;TZID=America/New_York:20260730T190000
DTSTAMP:20260423T122921
CREATED:20260416T150922Z
LAST-MODIFIED:20260416T152154Z
UID:10001326-1785430800-1785438000@fso-hsw.org
SUMMARY:Hunterdon County Youth Partnership
DESCRIPTION:Come join us for Hunterdon County Youth Partnership! You can make new friends\, take field trips\, get involved with your community through volunteer opportunities\, take part in move nights\, games nights\, cool experiments\, and more.\n\nTo register or inquire please contact Michelle Roussos at mroussos@fso-hsw.org or call 908-223-1191.\nLearn More
URL:https://fso-hsw.org/event/hunterdon-county-youth-partnership/2026-07-30/
LOCATION:Hunterdon County Youth Partnership\, 44 Emery Avenue\, Flemington\, NJ\, 08822\, United States
END:VEVENT
END:VCALENDAR