BEGIN:VCALENDAR
VERSION:2.0
PRODID:-//Home | Family Support | Tools for Caregivers - ECPv6.15.17.1//NONSGML v1.0//EN
CALSCALE:GREGORIAN
METHOD:PUBLISH
X-ORIGINAL-URL:https://fso-hsw.org
X-WR-CALDESC:Events for Home | Family Support | Tools for Caregivers
REFRESH-INTERVAL;VALUE=DURATION:PT1H
X-Robots-Tag:noindex
X-PUBLISHED-TTL:PT1H
BEGIN:VTIMEZONE
TZID:America/New_York
BEGIN:DAYLIGHT
TZOFFSETFROM:-0500
TZOFFSETTO:-0400
TZNAME:EDT
DTSTART:20270314T070000
END:DAYLIGHT
BEGIN:STANDARD
TZOFFSETFROM:-0400
TZOFFSETTO:-0500
TZNAME:EST
DTSTART:20271107T060000
END:STANDARD
BEGIN:DAYLIGHT
TZOFFSETFROM:-0500
TZOFFSETTO:-0400
TZNAME:EDT
DTSTART:20280312T070000
END:DAYLIGHT
BEGIN:STANDARD
TZOFFSETFROM:-0400
TZOFFSETTO:-0500
TZNAME:EST
DTSTART:20281105T060000
END:STANDARD
BEGIN:DAYLIGHT
TZOFFSETFROM:-0500
TZOFFSETTO:-0400
TZNAME:EDT
DTSTART:20290311T070000
END:DAYLIGHT
BEGIN:STANDARD
TZOFFSETFROM:-0400
TZOFFSETTO:-0500
TZNAME:EST
DTSTART:20291104T060000
END:STANDARD
END:VTIMEZONE
BEGIN:VEVENT
DTSTART;TZID=America/New_York:20281205T170000
DTEND;TZID=America/New_York:20281205T190000
DTSTAMP:20260425T091008
CREATED:20260416T164835Z
LAST-MODIFIED:20260416T164851Z
UID:10001709-1859648400-1859655600@fso-hsw.org
SUMMARY:Somerset County Youth Partnership
DESCRIPTION:Come join us for Somerset County Youth Partnership! Each week we host dinner\, games\, movies\, field trips\, art activites\, and MORE!! To register or inquire please contact Michelle Roussos at mroussos@fso-hsw.org or call 908-223-1191. Somerset County Youth Partnership – Pioneer Success Center\, 50 Division Street\,Suite 33\, Somerville\, NJ \nDownload Flyer
URL:https://fso-hsw.org/event/somerset-county-youth-partnership-3/2028-12-05/
LOCATION:Somerset County Youth Partnership\, Pioneer Success Center\, 50 Division Street\,Suite 33\, Somerville\, NJ\, 08876\, United States
END:VEVENT
BEGIN:VEVENT
DTSTART;TZID=America/New_York:20281207T170000
DTEND;TZID=America/New_York:20281207T190000
DTSTAMP:20260425T091008
CREATED:20260416T150922Z
LAST-MODIFIED:20260416T152154Z
UID:10001449-1859821200-1859828400@fso-hsw.org
SUMMARY:Hunterdon County Youth Partnership
DESCRIPTION:Come join us for Hunterdon County Youth Partnership! You can make new friends\, take field trips\, get involved with your community through volunteer opportunities\, take part in move nights\, games nights\, cool experiments\, and more.\n\nTo register or inquire please contact Michelle Roussos at mroussos@fso-hsw.org or call 908-223-1191.\nLearn More
URL:https://fso-hsw.org/event/hunterdon-county-youth-partnership/2028-12-07/
LOCATION:Hunterdon County Youth Partnership\, 44 Emery Avenue\, Flemington\, NJ\, 08822\, United States
END:VEVENT
BEGIN:VEVENT
DTSTART;TZID=America/New_York:20281212T170000
DTEND;TZID=America/New_York:20281212T190000
DTSTAMP:20260425T091008
CREATED:20260416T164835Z
LAST-MODIFIED:20260416T164851Z
UID:10001710-1860253200-1860260400@fso-hsw.org
SUMMARY:Somerset County Youth Partnership
DESCRIPTION:Come join us for Somerset County Youth Partnership! Each week we host dinner\, games\, movies\, field trips\, art activites\, and MORE!! To register or inquire please contact Michelle Roussos at mroussos@fso-hsw.org or call 908-223-1191. Somerset County Youth Partnership – Pioneer Success Center\, 50 Division Street\,Suite 33\, Somerville\, NJ \nDownload Flyer
URL:https://fso-hsw.org/event/somerset-county-youth-partnership-3/2028-12-12/
LOCATION:Somerset County Youth Partnership\, Pioneer Success Center\, 50 Division Street\,Suite 33\, Somerville\, NJ\, 08876\, United States
END:VEVENT
BEGIN:VEVENT
DTSTART;TZID=America/New_York:20281214T170000
DTEND;TZID=America/New_York:20281214T190000
DTSTAMP:20260425T091008
CREATED:20260416T150922Z
LAST-MODIFIED:20260416T152154Z
UID:10001450-1860426000-1860433200@fso-hsw.org
SUMMARY:Hunterdon County Youth Partnership
DESCRIPTION:Come join us for Hunterdon County Youth Partnership! You can make new friends\, take field trips\, get involved with your community through volunteer opportunities\, take part in move nights\, games nights\, cool experiments\, and more.\n\nTo register or inquire please contact Michelle Roussos at mroussos@fso-hsw.org or call 908-223-1191.\nLearn More
URL:https://fso-hsw.org/event/hunterdon-county-youth-partnership/2028-12-14/
LOCATION:Hunterdon County Youth Partnership\, 44 Emery Avenue\, Flemington\, NJ\, 08822\, United States
END:VEVENT
BEGIN:VEVENT
DTSTART;TZID=America/New_York:20281219T170000
DTEND;TZID=America/New_York:20281219T190000
DTSTAMP:20260425T091008
CREATED:20260416T164835Z
LAST-MODIFIED:20260416T164851Z
UID:10001711-1860858000-1860865200@fso-hsw.org
SUMMARY:Somerset County Youth Partnership
DESCRIPTION:Come join us for Somerset County Youth Partnership! Each week we host dinner\, games\, movies\, field trips\, art activites\, and MORE!! To register or inquire please contact Michelle Roussos at mroussos@fso-hsw.org or call 908-223-1191. Somerset County Youth Partnership – Pioneer Success Center\, 50 Division Street\,Suite 33\, Somerville\, NJ \nDownload Flyer
URL:https://fso-hsw.org/event/somerset-county-youth-partnership-3/2028-12-19/
LOCATION:Somerset County Youth Partnership\, Pioneer Success Center\, 50 Division Street\,Suite 33\, Somerville\, NJ\, 08876\, United States
END:VEVENT
BEGIN:VEVENT
DTSTART;TZID=America/New_York:20281221T170000
DTEND;TZID=America/New_York:20281221T190000
DTSTAMP:20260425T091008
CREATED:20260416T150922Z
LAST-MODIFIED:20260416T152154Z
UID:10001451-1861030800-1861038000@fso-hsw.org
SUMMARY:Hunterdon County Youth Partnership
DESCRIPTION:Come join us for Hunterdon County Youth Partnership! You can make new friends\, take field trips\, get involved with your community through volunteer opportunities\, take part in move nights\, games nights\, cool experiments\, and more.\n\nTo register or inquire please contact Michelle Roussos at mroussos@fso-hsw.org or call 908-223-1191.\nLearn More
URL:https://fso-hsw.org/event/hunterdon-county-youth-partnership/2028-12-21/
LOCATION:Hunterdon County Youth Partnership\, 44 Emery Avenue\, Flemington\, NJ\, 08822\, United States
END:VEVENT
BEGIN:VEVENT
DTSTART;TZID=America/New_York:20281226T170000
DTEND;TZID=America/New_York:20281226T190000
DTSTAMP:20260425T091008
CREATED:20260416T164835Z
LAST-MODIFIED:20260416T164851Z
UID:10001712-1861462800-1861470000@fso-hsw.org
SUMMARY:Somerset County Youth Partnership
DESCRIPTION:Come join us for Somerset County Youth Partnership! Each week we host dinner\, games\, movies\, field trips\, art activites\, and MORE!! To register or inquire please contact Michelle Roussos at mroussos@fso-hsw.org or call 908-223-1191. Somerset County Youth Partnership – Pioneer Success Center\, 50 Division Street\,Suite 33\, Somerville\, NJ \nDownload Flyer
URL:https://fso-hsw.org/event/somerset-county-youth-partnership-3/2028-12-26/
LOCATION:Somerset County Youth Partnership\, Pioneer Success Center\, 50 Division Street\,Suite 33\, Somerville\, NJ\, 08876\, United States
END:VEVENT
BEGIN:VEVENT
DTSTART;TZID=America/New_York:20281228T170000
DTEND;TZID=America/New_York:20281228T190000
DTSTAMP:20260425T091008
CREATED:20260416T150922Z
LAST-MODIFIED:20260416T152154Z
UID:10001452-1861635600-1861642800@fso-hsw.org
SUMMARY:Hunterdon County Youth Partnership
DESCRIPTION:Come join us for Hunterdon County Youth Partnership! You can make new friends\, take field trips\, get involved with your community through volunteer opportunities\, take part in move nights\, games nights\, cool experiments\, and more.\n\nTo register or inquire please contact Michelle Roussos at mroussos@fso-hsw.org or call 908-223-1191.\nLearn More
URL:https://fso-hsw.org/event/hunterdon-county-youth-partnership/2028-12-28/
LOCATION:Hunterdon County Youth Partnership\, 44 Emery Avenue\, Flemington\, NJ\, 08822\, United States
END:VEVENT
END:VCALENDAR